BEGIN:VCALENDAR
VERSION:2.0
PRODID:-// - ECPv6.8.3//NONSGML v1.0//EN
CALSCALE:GREGORIAN
METHOD:PUBLISH
X-ORIGINAL-URL:https://polskiemuzy.pl
X-WR-CALDESC:Wydarzenia dla 
REFRESH-INTERVAL;VALUE=DURATION:PT1H
X-Robots-Tag:noindex
X-PUBLISHED-TTL:PT1H
BEGIN:VTIMEZONE
TZID:Europe/Warsaw
BEGIN:DAYLIGHT
TZOFFSETFROM:+0100
TZOFFSETTO:+0200
TZNAME:CEST
DTSTART:20220327T010000
END:DAYLIGHT
BEGIN:STANDARD
TZOFFSETFROM:+0200
TZOFFSETTO:+0100
TZNAME:CET
DTSTART:20221030T010000
END:STANDARD
END:VTIMEZONE
BEGIN:VEVENT
DTSTART;TZID=Europe/Warsaw:20220428T110000
DTEND;TZID=Europe/Warsaw:20220428T130000
DTSTAMP:20260425T021442
CREATED:20220207T220048Z
LAST-MODIFIED:20220207T220500Z
UID:8687-1651143600-1651150800@polskiemuzy.pl
SUMMARY:Zajęcia w Klubie Seniora Amicus
DESCRIPTION:Warsztaty artystyczne i aktywizacyjne – witraż i mozaika
URL:https://polskiemuzy.pl/event/zajecia-w-klubie-seniora-amicus-2022-04-28/
LOCATION:Legionowo ul. Orlat Lwowskich 8\, ul. Orląt Lwowskich 8\, Legionowo\, Mazowsze\, 05-119\, Poland
CATEGORIES:Klub Seniora AMICUS
ATTACH;FMTTYPE=image/jpeg:https://polskiemuzy.pl/wp-content/uploads/2022/02/IMG_5670.jpeg
ORGANIZER;CN="12U.PL":MAILTO:andrzej.bochacz@gmail.com
END:VEVENT
BEGIN:VEVENT
DTSTART;TZID=Europe/Warsaw:20220423T080000
DTEND;TZID=Europe/Warsaw:20220424T170000
DTSTAMP:20260425T021442
CREATED:20220202T175306Z
LAST-MODIFIED:20220203T093045Z
UID:8540-1650700800-1650819600@polskiemuzy.pl
SUMMARY:Warsztaty - Witraż klasyczny
DESCRIPTION:Czy mogę wykonać samodzielnie witraż klasyczny? \nTak\, jak to robili wielcy mistrzowie renesansu? Tak\, jak to robią uznane pracownie witrażowe? \nA może chcesz rozszerzyć wachlarz swoich umiejętności? A może\, posiadając nowe kompetencje\, zechcesz ją rozwijać? \nPablo Picasso powiedział – „Wszystko\, co możesz sobie wyobrazić jest realne.” \nTe warsztaty są dla odkrywców ciekawych nowych lądów. \n      \n 
URL:https://polskiemuzy.pl/event/warsztaty-witraz-klasyczny/
LOCATION:easyArt\, ul.Jagiellońska 8\, Legionowo\, mazowieckie\, 05-120\, Poland
CATEGORIES:Klasyczny,Warsztaty easyArt
ORGANIZER;CN="12U.PL":MAILTO:andrzej.bochacz@gmail.com
END:VEVENT
BEGIN:VEVENT
DTSTART;TZID=Europe/Warsaw:20220421T160000
DTEND;TZID=Europe/Warsaw:20220421T180000
DTSTAMP:20260425T021442
CREATED:20220210T092152Z
LAST-MODIFIED:20220210T092152Z
UID:8707-1650556800-1650564000@polskiemuzy.pl
SUMMARY:Zajęcia z Fundacją Promień Słońca
DESCRIPTION:Warsztaty artystyczne i aktywizacyjne – witraż i mozaika
URL:https://polskiemuzy.pl/event/zajecia-z-fundacja-promien-slonca-2022-04-21/
LOCATION:Legionowo ul. Jagiellońska 8\, ul. Jagiellońska 8\, Legionowo\, Mazowsze\, 05-120\, Poland
CATEGORIES:Fundacja Promień Słońca
ATTACH;FMTTYPE=image/jpeg:https://polskiemuzy.pl/wp-content/uploads/2022/02/IMG_5513.jpeg
ORGANIZER;CN="12U.PL":MAILTO:andrzej.bochacz@gmail.com
END:VEVENT
BEGIN:VEVENT
DTSTART;TZID=Europe/Warsaw:20220414T130000
DTEND;TZID=Europe/Warsaw:20220414T140000
DTSTAMP:20260425T021442
CREATED:20220210T095542Z
LAST-MODIFIED:20220210T095542Z
UID:8717-1649941200-1649944800@polskiemuzy.pl
SUMMARY:Zajęcia - Warsztaty Terapii Zajęciowej św. Rity
DESCRIPTION:Warsztaty artystyczne i aktywizacyjne – witraż i mozaika
URL:https://polskiemuzy.pl/event/zajecia-warsztaty-terapii-zajeciowej-sw-rity-2022-04-14/
LOCATION:Legionowo ul. Orlat Lwowskich 8\, ul. Orląt Lwowskich 8\, Legionowo\, Mazowsze\, 05-119\, Poland
CATEGORIES:Warsztaty Terapii Zajęciowej św. Rity
ORGANIZER;CN="12U.PL":MAILTO:andrzej.bochacz@gmail.com
END:VEVENT
BEGIN:VEVENT
DTSTART;TZID=Europe/Warsaw:20220414T110000
DTEND;TZID=Europe/Warsaw:20220414T130000
DTSTAMP:20260425T021442
CREATED:20220207T220048Z
LAST-MODIFIED:20220207T220500Z
UID:8686-1649934000-1649941200@polskiemuzy.pl
SUMMARY:Zajęcia w Klubie Seniora Amicus
DESCRIPTION:Warsztaty artystyczne i aktywizacyjne – witraż i mozaika
URL:https://polskiemuzy.pl/event/zajecia-w-klubie-seniora-amicus-2022-04-14/
LOCATION:Legionowo ul. Orlat Lwowskich 8\, ul. Orląt Lwowskich 8\, Legionowo\, Mazowsze\, 05-119\, Poland
CATEGORIES:Klub Seniora AMICUS
ATTACH;FMTTYPE=image/jpeg:https://polskiemuzy.pl/wp-content/uploads/2022/02/IMG_5670.jpeg
ORGANIZER;CN="12U.PL":MAILTO:andrzej.bochacz@gmail.com
END:VEVENT
BEGIN:VEVENT
DTSTART;TZID=Europe/Warsaw:20220407T160000
DTEND;TZID=Europe/Warsaw:20220407T180000
DTSTAMP:20260425T021442
CREATED:20220210T092152Z
LAST-MODIFIED:20220210T092152Z
UID:8706-1649347200-1649354400@polskiemuzy.pl
SUMMARY:Zajęcia z Fundacją Promień Słońca
DESCRIPTION:Warsztaty artystyczne i aktywizacyjne – witraż i mozaika
URL:https://polskiemuzy.pl/event/zajecia-z-fundacja-promien-slonca-2022-04-07/
LOCATION:Legionowo ul. Jagiellońska 8\, ul. Jagiellońska 8\, Legionowo\, Mazowsze\, 05-120\, Poland
CATEGORIES:Fundacja Promień Słońca
ATTACH;FMTTYPE=image/jpeg:https://polskiemuzy.pl/wp-content/uploads/2022/02/IMG_5513.jpeg
ORGANIZER;CN="12U.PL":MAILTO:andrzej.bochacz@gmail.com
END:VEVENT
BEGIN:VEVENT
DTSTART;TZID=Europe/Warsaw:20220331T130000
DTEND;TZID=Europe/Warsaw:20220331T140000
DTSTAMP:20260425T021442
CREATED:20220210T095542Z
LAST-MODIFIED:20220210T095542Z
UID:8716-1648731600-1648735200@polskiemuzy.pl
SUMMARY:Zajęcia - Warsztaty Terapii Zajęciowej św. Rity
DESCRIPTION:Warsztaty artystyczne i aktywizacyjne – witraż i mozaika
URL:https://polskiemuzy.pl/event/zajecia-warsztaty-terapii-zajeciowej-sw-rity-2022-03-31/
LOCATION:Legionowo ul. Orlat Lwowskich 8\, ul. Orląt Lwowskich 8\, Legionowo\, Mazowsze\, 05-119\, Poland
CATEGORIES:Warsztaty Terapii Zajęciowej św. Rity
ORGANIZER;CN="12U.PL":MAILTO:andrzej.bochacz@gmail.com
END:VEVENT
BEGIN:VEVENT
DTSTART;TZID=Europe/Warsaw:20220331T110000
DTEND;TZID=Europe/Warsaw:20220331T130000
DTSTAMP:20260425T021442
CREATED:20220207T220048Z
LAST-MODIFIED:20220207T220500Z
UID:8685-1648724400-1648731600@polskiemuzy.pl
SUMMARY:Zajęcia w Klubie Seniora Amicus
DESCRIPTION:Warsztaty artystyczne i aktywizacyjne – witraż i mozaika
URL:https://polskiemuzy.pl/event/zajecia-w-klubie-seniora-amicus-2022-03-31/
LOCATION:Legionowo ul. Orlat Lwowskich 8\, ul. Orląt Lwowskich 8\, Legionowo\, Mazowsze\, 05-119\, Poland
CATEGORIES:Klub Seniora AMICUS
ATTACH;FMTTYPE=image/jpeg:https://polskiemuzy.pl/wp-content/uploads/2022/02/IMG_5670.jpeg
ORGANIZER;CN="12U.PL":MAILTO:andrzej.bochacz@gmail.com
END:VEVENT
BEGIN:VEVENT
DTSTART;TZID=Europe/Warsaw:20220317T160000
DTEND;TZID=Europe/Warsaw:20220317T180000
DTSTAMP:20260425T021442
CREATED:20220210T092152Z
LAST-MODIFIED:20220210T092152Z
UID:8705-1647532800-1647540000@polskiemuzy.pl
SUMMARY:Zajęcia z Fundacją Promień Słońca
DESCRIPTION:Warsztaty artystyczne i aktywizacyjne – witraż i mozaika
URL:https://polskiemuzy.pl/event/zajecia-z-fundacja-promien-slonca-2022-03-17/
LOCATION:Legionowo ul. Jagiellońska 8\, ul. Jagiellońska 8\, Legionowo\, Mazowsze\, 05-120\, Poland
CATEGORIES:Fundacja Promień Słońca
ATTACH;FMTTYPE=image/jpeg:https://polskiemuzy.pl/wp-content/uploads/2022/02/IMG_5513.jpeg
ORGANIZER;CN="12U.PL":MAILTO:andrzej.bochacz@gmail.com
END:VEVENT
BEGIN:VEVENT
DTSTART;TZID=Europe/Warsaw:20220310T130000
DTEND;TZID=Europe/Warsaw:20220310T140000
DTSTAMP:20260425T021442
CREATED:20220210T095542Z
LAST-MODIFIED:20220210T095542Z
UID:8715-1646917200-1646920800@polskiemuzy.pl
SUMMARY:Zajęcia - Warsztaty Terapii Zajęciowej św. Rity
DESCRIPTION:Warsztaty artystyczne i aktywizacyjne – witraż i mozaika
URL:https://polskiemuzy.pl/event/zajecia-warsztaty-terapii-zajeciowej-sw-rity-2022-03-10/
LOCATION:Legionowo ul. Orlat Lwowskich 8\, ul. Orląt Lwowskich 8\, Legionowo\, Mazowsze\, 05-119\, Poland
CATEGORIES:Warsztaty Terapii Zajęciowej św. Rity
ORGANIZER;CN="12U.PL":MAILTO:andrzej.bochacz@gmail.com
END:VEVENT
BEGIN:VEVENT
DTSTART;TZID=Europe/Warsaw:20220310T110000
DTEND;TZID=Europe/Warsaw:20220310T130000
DTSTAMP:20260425T021442
CREATED:20220207T220048Z
LAST-MODIFIED:20220207T220500Z
UID:8684-1646910000-1646917200@polskiemuzy.pl
SUMMARY:Zajęcia w Klubie Seniora Amicus
DESCRIPTION:Warsztaty artystyczne i aktywizacyjne – witraż i mozaika
URL:https://polskiemuzy.pl/event/zajecia-w-klubie-seniora-amicus-2022-03-10/
LOCATION:Legionowo ul. Orlat Lwowskich 8\, ul. Orląt Lwowskich 8\, Legionowo\, Mazowsze\, 05-119\, Poland
CATEGORIES:Klub Seniora AMICUS
ATTACH;FMTTYPE=image/jpeg:https://polskiemuzy.pl/wp-content/uploads/2022/02/IMG_5670.jpeg
ORGANIZER;CN="12U.PL":MAILTO:andrzej.bochacz@gmail.com
END:VEVENT
BEGIN:VEVENT
DTSTART;TZID=Europe/Warsaw:20220303T160000
DTEND;TZID=Europe/Warsaw:20220303T180000
DTSTAMP:20260425T021442
CREATED:20220210T092152Z
LAST-MODIFIED:20220210T092152Z
UID:8704-1646323200-1646330400@polskiemuzy.pl
SUMMARY:Zajęcia z Fundacją Promień Słońca
DESCRIPTION:Warsztaty artystyczne i aktywizacyjne – witraż i mozaika
URL:https://polskiemuzy.pl/event/zajecia-z-fundacja-promien-slonca-2022-03-03/
LOCATION:Legionowo ul. Jagiellońska 8\, ul. Jagiellońska 8\, Legionowo\, Mazowsze\, 05-120\, Poland
CATEGORIES:Fundacja Promień Słońca
ATTACH;FMTTYPE=image/jpeg:https://polskiemuzy.pl/wp-content/uploads/2022/02/IMG_5513.jpeg
ORGANIZER;CN="12U.PL":MAILTO:andrzej.bochacz@gmail.com
END:VEVENT
BEGIN:VEVENT
DTSTART;TZID=Europe/Warsaw:20220224T130000
DTEND;TZID=Europe/Warsaw:20220224T140000
DTSTAMP:20260425T021442
CREATED:20220210T095542Z
LAST-MODIFIED:20220210T095542Z
UID:8712-1645707600-1645711200@polskiemuzy.pl
SUMMARY:Zajęcia - Warsztaty Terapii Zajęciowej św. Rity
DESCRIPTION:Warsztaty artystyczne i aktywizacyjne – witraż i mozaika
URL:https://polskiemuzy.pl/event/zajecia-warsztaty-terapii-zajeciowej-sw-rity/
LOCATION:Legionowo ul. Orlat Lwowskich 8\, ul. Orląt Lwowskich 8\, Legionowo\, Mazowsze\, 05-119\, Poland
CATEGORIES:Warsztaty Terapii Zajęciowej św. Rity
ORGANIZER;CN="12U.PL":MAILTO:andrzej.bochacz@gmail.com
END:VEVENT
BEGIN:VEVENT
DTSTART;TZID=Europe/Warsaw:20220224T110000
DTEND;TZID=Europe/Warsaw:20220224T130000
DTSTAMP:20260425T021442
CREATED:20220207T220048Z
LAST-MODIFIED:20220207T220459Z
UID:8680-1645700400-1645707600@polskiemuzy.pl
SUMMARY:Zajęcia w Klubie Seniora Amicus
DESCRIPTION:Warsztaty artystyczne i aktywizacyjne – witraż i mozaika
URL:https://polskiemuzy.pl/event/zajecia-w-klubie-seniora-amicus/
LOCATION:Legionowo ul. Orlat Lwowskich 8\, ul. Orląt Lwowskich 8\, Legionowo\, Mazowsze\, 05-119\, Poland
CATEGORIES:Klub Seniora AMICUS
ATTACH;FMTTYPE=image/jpeg:https://polskiemuzy.pl/wp-content/uploads/2022/02/IMG_5670.jpeg
ORGANIZER;CN="12U.PL":MAILTO:andrzej.bochacz@gmail.com
END:VEVENT
BEGIN:VEVENT
DTSTART;TZID=Europe/Warsaw:20220217T160000
DTEND;TZID=Europe/Warsaw:20220217T180000
DTSTAMP:20260425T021442
CREATED:20220210T092152Z
LAST-MODIFIED:20220210T092152Z
UID:8699-1645113600-1645120800@polskiemuzy.pl
SUMMARY:Zajęcia z Fundacją Promień Słońca
DESCRIPTION:Warsztaty artystyczne i aktywizacyjne – witraż i mozaika
URL:https://polskiemuzy.pl/event/zajecia-z-fundacja-promien-slonca/
LOCATION:Legionowo ul. Jagiellońska 8\, ul. Jagiellońska 8\, Legionowo\, Mazowsze\, 05-120\, Poland
CATEGORIES:Fundacja Promień Słońca
ATTACH;FMTTYPE=image/jpeg:https://polskiemuzy.pl/wp-content/uploads/2022/02/IMG_5513.jpeg
ORGANIZER;CN="12U.PL":MAILTO:andrzej.bochacz@gmail.com
END:VEVENT
END:VCALENDAR